BEGIN:VCALENDAR
VERSION:2.0
PRODID:-//Simone Stengel - ECPv5.16.3.1//NONSGML v1.0//EN
CALSCALE:GREGORIAN
METHOD:PUBLISH
X-WR-CALNAME:Simone Stengel
X-ORIGINAL-URL:https://www.st-engel-atelier.de
X-WR-CALDESC:Veranstaltungen für Simone Stengel
BEGIN:VTIMEZONE
TZID:Europe/Berlin
BEGIN:DAYLIGHT
TZOFFSETFROM:+0100
TZOFFSETTO:+0200
TZNAME:CEST
DTSTART:20220327T010000
END:DAYLIGHT
BEGIN:STANDARD
TZOFFSETFROM:+0200
TZOFFSETTO:+0100
TZNAME:CET
DTSTART:20221030T010000
END:STANDARD
END:VTIMEZONE
BEGIN:VEVENT
DTSTART;TZID=Europe/Berlin:20221112T100000
DTEND;TZID=Europe/Berlin:20221112T170000
DTSTAMP:20260420T160637
CREATED:20220922T081758Z
LAST-MODIFIED:20221109T124342Z
UID:216375-1668247200-1668272400@www.st-engel-atelier.de
SUMMARY:Angels on Fire
DESCRIPTION:  \n“Im November\, wenn die Tage kürzer werden\, mystischer Nebel über der Landschaft liegt und \nwir mehr das “Innen”\, als das “Außen” wahrnehmen\, findet unser Workshop “Angels on Fire” statt. \nWir (Biggi Bech de Careda und Simone Stengel) möchten das Malen mit dem Mischen der eigenen Seelenräucherung verbinden. \n  \nRäuchern öffnet Räume! Düfte schaffen Erinnerungen\, geben Impulse und wirken auf Körper und Geist. \nAlle Erlebnisse im Leben und alle Erfahrungen sind mit unseren Sinnen verknüpft. Düfte sind ein Anker\, \nder uns sofort mit Emotionen und Gefühlen verbindet. \n  \nEinen Tag lang widmen wir uns selbst und tun das\, was der Seele gut tut. \nEntdecke deine Auszeit beim Seelenmalen\, beim Räuchern mit Kräutern und Harzen\, bei Meditation; \nstelle deine Räuchermischung her\, tauche ein in die Welt der Farben und des Räucherns. \n  \nMaterial\, Mittagessen sowie Getränke und Snacks sind im Preis enthalten. \nVorort besteht die Möglichkeit zur Ubernachtung. Es stehen komfortable Zimmer im einstein.7 bereit. \nEine Anmeldung gilt als verbindlich und ist somit kostenpflichtig. Es wird eine Anmeldegebühr von 20\,00 € erhoben.
URL:https://www.st-engel-atelier.de/events/angels-on-fire/
LOCATION:Einstein 7\, Einsteinstraße. 7\, Balingen\, 72336\, Deutschland
ATTACH;FMTTYPE=image/jpeg:https://www.st-engel-atelier.de/wp-content/uploads/2019/03/blog-2200x600.jpg
END:VEVENT
END:VCALENDAR