BEGIN:VCALENDAR
VERSION:2.0
PRODID:-//Simone Stengel - ECPv5.16.3.1//NONSGML v1.0//EN
CALSCALE:GREGORIAN
METHOD:PUBLISH
X-WR-CALNAME:Simone Stengel
X-ORIGINAL-URL:https://www.st-engel-atelier.de
X-WR-CALDESC:Veranstaltungen für Simone Stengel
BEGIN:VTIMEZONE
TZID:Europe/Berlin
BEGIN:DAYLIGHT
TZOFFSETFROM:+0100
TZOFFSETTO:+0200
TZNAME:CEST
DTSTART:20200329T010000
END:DAYLIGHT
BEGIN:STANDARD
TZOFFSETFROM:+0200
TZOFFSETTO:+0100
TZNAME:CET
DTSTART:20201025T010000
END:STANDARD
END:VTIMEZONE
BEGIN:VEVENT
DTSTART;TZID=Europe/Berlin:20201017T110000
DTEND;TZID=Europe/Berlin:20201017T143000
DTSTAMP:20260420T174412
CREATED:20181023T171310Z
LAST-MODIFIED:20200920T051636Z
UID:163921-1602932400-1602945000@www.st-engel-atelier.de
SUMMARY:Die heilende Kraft der Farben und ätherischen Öle
DESCRIPTION:Genau so wie Farben auf unsere Sinne wirken\, betören Düfte die Menschen seit Tausenden von Jahren. An diesem Nachmittag wollen wir beides miteinander verbinden und uns auf eine Sinnesreise begeben. Wir tauchen ein\, in die Welt der Farben und Düfte und schauen\, was  wir momentan  für unsere Themen des Lebens brauchen. \n Birgit Bech de Careda ist Aromatherapeutin und wird uns an diesem Tag mit den Ölen von Young Living begleiten. Sie wird uns Wertvolles und Heilsames bezüglich der Öle auf Körper\, Seele und Geist nahe bringen. \nJeder Teilnehmer darf sich intuitiv ein Öl aussuchen\, “sein ÖL” in die Farben mischen und es in sein persönliches “Bild der Heilung” miteinfließen lassen. Hierbei entstehen Bilder\, welche tief auf Seelenebene wirken. \n 
URL:https://www.st-engel-atelier.de/events/die-heilende-kraft-der-farben-und-aetherischen-oele/
LOCATION:Atelier Simone Stengel\, Dettenhaldenstraße 26\, 72336 Balingen\, Deutschland
ATTACH;FMTTYPE=image/jpeg:https://www.st-engel-atelier.de/wp-content/uploads/2016/05/Titelbild-1732x1155-1.jpg
ORGANIZER;CN="Simone%20Stengel":MAILTO:simonestengel65@gmail.com
END:VEVENT
END:VCALENDAR