BEGIN:VCALENDAR
VERSION:2.0
PRODID:-//Simone Stengel - ECPv5.16.3.1//NONSGML v1.0//EN
CALSCALE:GREGORIAN
METHOD:PUBLISH
X-WR-CALNAME:Simone Stengel
X-ORIGINAL-URL:https://www.st-engel-atelier.de
X-WR-CALDESC:Veranstaltungen für Simone Stengel
BEGIN:VTIMEZONE
TZID:Europe/Berlin
BEGIN:DAYLIGHT
TZOFFSETFROM:+0100
TZOFFSETTO:+0200
TZNAME:CEST
DTSTART:20250330T010000
END:DAYLIGHT
BEGIN:STANDARD
TZOFFSETFROM:+0200
TZOFFSETTO:+0100
TZNAME:CET
DTSTART:20251026T010000
END:STANDARD
END:VTIMEZONE
BEGIN:VEVENT
DTSTART;TZID=Europe/Berlin:20250913T110000
DTEND;TZID=Europe/Berlin:20250913T140000
DTSTAMP:20260420T142418
CREATED:20220216T124306Z
LAST-MODIFIED:20250901T064619Z
UID:216105-1757761200-1757772000@www.st-engel-atelier.de
SUMMARY:Die heilende Kraft der Farben und äthärischen Öle
DESCRIPTION:Genau so wie Farben auf unsere Sinne wirken\, betören Düfte die Menschen seit Tausenden von Jahren. An diesem Workshop wollen wir beides miteinander verbinden und uns auf eine Sinnesreise begeben. Wir tauchen ein\, in die Welt der Farben und Düfte und schauen\, was wir momentan für unsere Themen des Alltags brauchen. \nJeder Teilnehmer darf sich intuitiv ein Öl aussuchen\, aus diesem Öl sein eigenen Aurasprey kreieren und es in sein persönliches Seelenbild miteinfließen lassen. Hierbei entstehet eine wunderbare Symbiose von Duft und Farbe\, welche heilend auf tiefe Bewusstseinsenebenen wirken. \nLasse dich von deinem inneren Heiler führen und löse an diesem Tag alte Muster aus deinem Zellgedächtnis\, welche dir für deine Entwiklung nicht mehr dienlich sind. \nGetränke/Snaks sowie Material sind im Preis enthalten.\nEine Anmeldung gilt als Verbindlich und ist somit kostenpflichtig. Bitte beachte hierbei die AGBs
URL:https://www.st-engel-atelier.de/events/die-heilende-kraft-der-farben-und-biblischen-oele/
LOCATION:Atelier Simone Stengel\, Dettenhaldenstraße 26\, 72336 Balingen\, Deutschland
ATTACH;FMTTYPE=image/jpeg:https://www.st-engel-atelier.de/wp-content/uploads/2016/05/Blume.jpg
END:VEVENT
END:VCALENDAR