BEGIN:VCALENDAR
VERSION:2.0
PRODID:-//Simone Stengel - ECPv5.16.3.1//NONSGML v1.0//EN
CALSCALE:GREGORIAN
METHOD:PUBLISH
X-WR-CALNAME:Simone Stengel
X-ORIGINAL-URL:https://www.st-engel-atelier.de
X-WR-CALDESC:Veranstaltungen für Simone Stengel
BEGIN:VTIMEZONE
TZID:Europe/Berlin
BEGIN:DAYLIGHT
TZOFFSETFROM:+0100
TZOFFSETTO:+0200
TZNAME:CEST
DTSTART:20220327T010000
END:DAYLIGHT
BEGIN:STANDARD
TZOFFSETFROM:+0200
TZOFFSETTO:+0100
TZNAME:CET
DTSTART:20221030T010000
END:STANDARD
END:VTIMEZONE
BEGIN:VEVENT
DTSTART;TZID=Europe/Berlin:20220622T190000
DTEND;TZID=Europe/Berlin:20220622T210000
DTSTAMP:20260420T160156
CREATED:20220613T152847Z
LAST-MODIFIED:20220617T083408Z
UID:216279-1655924400-1655931600@www.st-engel-atelier.de
SUMMARY:Ein Abend mit den Engeln
DESCRIPTION:An diesem Abend möchte ich euch auf eine Sinnesreise mitnehmen und euch Einblicke in mein Arbeiten mit den Engeln gewähren. \nDabei möchte ich aus meinem Alltag als Künstlerin und spirituelle Heilerin erzählen und meine Erfahrungen mit euch teilen. \nGerne gebe ich weiter wie mir die Engel ganz praktisch zur Seite stehen\, mich in meinem Wirken und Tun unterstützen und wie ihr das selber auch ganz einfach praktizieren könnt. \nOft gestellte Fragen\, wie ich zu den Engeln kam\, wie ich sie erfahre\, wie ich ihre Botschaften empfange\, wie ich ihre heilende Kraft in mein Arbeiten einbeziehe….. \nAuf fröhliche\, amüsante Art plaudere ich aus dem “Nähkästchen” und möchte euch die Engelwelt näher bringen. Ich lade euch ein\,  mit den himmlischen Begleitern auf DU zu gehen und sie aktiv in euer Leben zu integrieren. \nWie ich immer wieder selbst erfahren und erleben darf\, geht dann alles einfacher\, leichter und freudiger…. \nNatürlich bin ich (und auch die Engel) für eure Fragen offen und freuen uns auf einen wundervollen Abend mit Menschen\, welche sich dieser göttlichen Liebesenergie öffnen und sich mit ihr verbinden möchten. \nZum Schluss gibt es eine  kleine Engelmeditation und wir ziehen natülich auch Engelkarten. \n 
URL:https://www.st-engel-atelier.de/events/ein-abend-mit-den-engeln/
LOCATION:Atelier Simone Stengel\, Dettenhaldenstraße 26\, 72336 Balingen\, Deutschland
ATTACH;FMTTYPE=image/jpeg:https://www.st-engel-atelier.de/wp-content/uploads/2022/05/Das-bin-ich-400x400-1.jpg
ORGANIZER;CN="Simone%20Stengel":MAILTO:simonestengel65@gmail.com
END:VEVENT
END:VCALENDAR