BEGIN:VCALENDAR
VERSION:2.0
PRODID:-//Simone Stengel - ECPv5.16.3.1//NONSGML v1.0//EN
CALSCALE:GREGORIAN
METHOD:PUBLISH
X-WR-CALNAME:Simone Stengel
X-ORIGINAL-URL:https://www.st-engel-atelier.de
X-WR-CALDESC:Veranstaltungen für Simone Stengel
BEGIN:VTIMEZONE
TZID:Europe/Berlin
BEGIN:DAYLIGHT
TZOFFSETFROM:+0100
TZOFFSETTO:+0200
TZNAME:CEST
DTSTART:20240331T010000
END:DAYLIGHT
BEGIN:STANDARD
TZOFFSETFROM:+0200
TZOFFSETTO:+0100
TZNAME:CET
DTSTART:20241027T010000
END:STANDARD
END:VTIMEZONE
BEGIN:VEVENT
DTSTART;TZID=Europe/Berlin:20241108T190000
DTEND;TZID=Europe/Berlin:20241108T220000
DTSTAMP:20260421T121646
CREATED:20240620T071901Z
LAST-MODIFIED:20260310T073445Z
UID:216769-1731092400-1731103200@www.st-engel-atelier.de
SUMMARY:Ein Stück vom großen Glück
DESCRIPTION:Ein Stück vom Großen Glück\, wer hätte das nicht gerne? Doch bei den meisten sieht der Alltag anders aus\, bei dir auch?\nDu möchtest wieder mehr Freude und Leichtigkeit in deinem Leben verspüren? Du sehnst dich nach neuen Impulsen\, Kraft und Unterstützung? Du möchtest dich (wieder) selbst finden\, deine Selbstheilungskräfte aktivieren\, den Weg deines Herzens folgen und dich mit deiner Seele verbinden? \nKreativität macht glücklich! \nIn diesem Workshop möchte ich dich mit einer geführten Meditation in die Welt deiner Seelenfarben entführen. Erkenne was du momentan für dein Leben brauchst und manifestiere es in Form und Farbe. Du brauchst keinerlei Malkenntnisse\, vertraue auf meine Begleitung und auf deine innere Führung. \nWage dieses Abenteuer. \nEs steht alles bereit was du brauchst. Farben\, Pinsel\, Leinwand\, Schablonen\, Getränke und Snacks. \nDurch visionäres Schauen oder Hellfühlen\, entsteht ein berührendes Bild aus der Tiefe deiner Seele\, welche ich im Anschluss durch eine liebevolle\, wertungsfreie Sicht gerne für dich deute. \nDie Workshopgebühr ist inklusive Arbeitsmaterial/Getränke/Snacks. \nDeine Anmeldung gilt als verbindlich und ist somit kostenpflichtig; beachte bitte die AGBs.
URL:https://www.st-engel-atelier.de/events/ein-stueck-vom-grossen-glueck/
LOCATION:Simone Horn\, Birkenstraße 4\, Balingen-Erzingen\, 72336
CATEGORIES:Malkurs
ATTACH;FMTTYPE=image/jpeg:https://www.st-engel-atelier.de/wp-content/uploads/2017/12/Sinone-Stengel-003.jpg
END:VEVENT
END:VCALENDAR