BEGIN:VCALENDAR
VERSION:2.0
PRODID:-//Simone Stengel - ECPv5.16.3.1//NONSGML v1.0//EN
CALSCALE:GREGORIAN
METHOD:PUBLISH
X-WR-CALNAME:Simone Stengel
X-ORIGINAL-URL:https://www.st-engel-atelier.de
X-WR-CALDESC:Veranstaltungen für Simone Stengel
BEGIN:VTIMEZONE
TZID:Europe/Berlin
BEGIN:DAYLIGHT
TZOFFSETFROM:+0100
TZOFFSETTO:+0200
TZNAME:CEST
DTSTART:20240331T010000
END:DAYLIGHT
BEGIN:STANDARD
TZOFFSETFROM:+0200
TZOFFSETTO:+0100
TZNAME:CET
DTSTART:20241027T010000
END:STANDARD
END:VTIMEZONE
BEGIN:VEVENT
DTSTART;TZID=Europe/Berlin:20241026T110000
DTEND;TZID=Europe/Berlin:20241026T140000
DTSTAMP:20260420T160703
CREATED:20231130T190338Z
LAST-MODIFIED:20251126T082243Z
UID:216678-1729940400-1729951200@www.st-engel-atelier.de
SUMMARY:Engelmalen im Advent
DESCRIPTION:Von unsichtbarer Hand geführt\, so leicht wie ein Flügelschlag\, ein Flüstern im Wind ….. \nWie schaut er aus dein Engel? In welcher Farbe\, Form oder Erscheinung möchte er sich dir zeigen? Wie lautet seine Adventsbotschaft  an dich? Was für Impulse möchte er dir für das Jahr 2025 mitgeben? \nDurch die Botschaften und das liebevolle Gestallten der Bilder entsteht ein Feld der Heilung im Raum. Spühre und erlebe die besondere Atmosphäre\, welche dich in dieser Zeit  und auch danach durch das Jahr begleitet. \nLasse die Energien und Informationen in dein persönliches Engelbild einfließen und erlebe wie diese segensvolle\, himmlische Energie dein Leben begleit und dein Zuhause mit neuer positiven Energie erfüllt und dich beflügelt. \nAn diesem Tag erhältst du eine liebevolle Engelbotschaft\, welche dich durch das Jahr 2025 begeietet und dich in deinen momentanen Themen unterstützt. \nMaterial\, Getränke und Snacks sind im Preis enthalten\, \n  \nDu hast eine längere Anfahrt? Es gibt schöne Übernachtungsmöglichkeiten bei Anke Krauser. \nEine Anmeldung gilt als verbindlich und ist somit kostenpflichtig\, bitte beachten sie die AGBs.
URL:https://www.st-engel-atelier.de/events/engelmalen-im-advent/
LOCATION:Atelier Simone Stengel\, Dettenhaldenstraße 26\, 72336 Balingen\, Deutschland
ATTACH;FMTTYPE=image/jpeg:https://www.st-engel-atelier.de/wp-content/uploads/2021/10/Angel-on-Fire.jpg
END:VEVENT
END:VCALENDAR