BEGIN:VCALENDAR
VERSION:2.0
PRODID:-//Simone Stengel - ECPv5.16.3.1//NONSGML v1.0//EN
CALSCALE:GREGORIAN
METHOD:PUBLISH
X-WR-CALNAME:Simone Stengel
X-ORIGINAL-URL:https://www.st-engel-atelier.de
X-WR-CALDESC:Veranstaltungen für Simone Stengel
BEGIN:VTIMEZONE
TZID:Europe/Berlin
BEGIN:DAYLIGHT
TZOFFSETFROM:+0100
TZOFFSETTO:+0200
TZNAME:CEST
DTSTART:20250330T010000
END:DAYLIGHT
BEGIN:STANDARD
TZOFFSETFROM:+0200
TZOFFSETTO:+0100
TZNAME:CET
DTSTART:20251026T010000
END:STANDARD
END:VTIMEZONE
BEGIN:VEVENT
DTSTART;TZID=Europe/Berlin:20250405T110000
DTEND;TZID=Europe/Berlin:20250405T180000
DTSTAMP:20260420T160421
CREATED:20250301T172747Z
LAST-MODIFIED:20250301T174838Z
UID:217014-1743850800-1743876000@www.st-engel-atelier.de
SUMMARY:Herzliche Einladung / Ein Tag für Wellness und Gesundheit
DESCRIPTION:Ich freue mich an diesem Event als Aussteller mit meinem Atelier dabei zu sein. An diesem Tag biete ich  eine Vielzahl meines Angebotes wie z.B. Aurasprays\, Engel und Energiebilder\, Engelkerzen und vieles mehr an. Seid gespannt und lasst euch überraschen\, es gibt tolle Angebote und so manches himmliche Schnäppchen wartet auf euch. \nÜber den Tag verteilt gibt es interessante Vorträge und kreative Einblicke rund um das Thema ganzheitliche Gesundheit\, Ernährung\, Wellness und Bewusstseinserweiterung. Lasst euch inspirieren und sammelt wertvolle Impulse\, die euch auf eurem Weg zu mehr Ausgeglichenheit und innerer Stärke begleiten werden. \nFür das leibliche Wohl ist bestens gesorgt\, Der Eintritt ist frei! \nFreut euch auf einen Tag mit Vorträgen\, netten neuen Kontakten\, schönen Gesprächen und vieles mehr.
URL:https://www.st-engel-atelier.de/events/herzliche-einladung-ein-tag-fuer-wellness-und-gesundheit/
LOCATION:Financial Architekts AG\, Roumser Sraße !\, Geislingen\, BW\, 72351
ATTACH;FMTTYPE=image/jpeg:https://www.st-engel-atelier.de/wp-content/uploads/2018/01/img_0237.jpg
ORGANIZER;CN="Financial%20Architects%20AG":MAILTO:info@die-fa.de
END:VEVENT
END:VCALENDAR