BEGIN:VCALENDAR
VERSION:2.0
PRODID:-//Simone Stengel - ECPv5.16.3.1//NONSGML v1.0//EN
CALSCALE:GREGORIAN
METHOD:PUBLISH
X-WR-CALNAME:Simone Stengel
X-ORIGINAL-URL:https://www.st-engel-atelier.de
X-WR-CALDESC:Veranstaltungen für Simone Stengel
BEGIN:VTIMEZONE
TZID:Europe/Berlin
BEGIN:DAYLIGHT
TZOFFSETFROM:+0100
TZOFFSETTO:+0200
TZNAME:CEST
DTSTART:20240331T010000
END:DAYLIGHT
BEGIN:STANDARD
TZOFFSETFROM:+0200
TZOFFSETTO:+0100
TZNAME:CET
DTSTART:20241027T010000
END:STANDARD
END:VTIMEZONE
BEGIN:VEVENT
DTSTART;TZID=Europe/Berlin:20240113T110000
DTEND;TZID=Europe/Berlin:20240113T140000
DTSTAMP:20260421T125607
CREATED:20221230T165955Z
LAST-MODIFIED:20231126T184136Z
UID:216470-1705143600-1705154400@www.st-engel-atelier.de
SUMMARY:Mit den Engeln in das Jahr 2024
DESCRIPTION:Von unsichtbarer Hand geführt\, so leicht wie ein Flügelschlag\, ein Flüstern im Wind ….. \nWie schaut er aus dein Engel? In welcher Farbe\, Form oder Erscheinung möchte er sich dir zeigen? Wie lautet seine Botschaft für das Jahr 2024 an dich? Was für Impulse möchte er dir für dieses Jahr mitgeben? \nDurch die Botschaften und das liebevolle Gestallten der Bilder entsteht ein Feld der Heilung im Raum. Spühre und erlebe die besondere Atmosphäre\, welche dich in dieser Zeit  und auch danach durch das Jahr begleitet. \nLasse die Energien und Informationen in dein persönliches Engelbild einfließen und erlebe wie diese segensvolle\, himmlische Energie dein Leben begleit und dein Zuhause mit neuer positiven Energie erfüllt und dich beflügelt. \nAn diesem Tag erhältst du deine perönliche Engelbotschaft\, welche dich durch das Jahr 2023 begeietet und dich in deinen momentanen Themen unterstützt. \nMaterial\, Getränke und Snacks sind im Preis enthalten\, sowie eine schöne Engelkarte mit handgeschriebener Engelbotschaft. \n  \nDu hast eine längere Anfahrt? Es gibt schöne Übernachtungsmöglichkeiten bei Anke Krauser. \nEine Anmeldung gilt als verbindlich und ist somit kostenpflichtig\, bitte beachten sie die AGBs.
URL:https://www.st-engel-atelier.de/events/mit-den-engeln-ins-neue-jahr/
LOCATION:Atelier Simone Stengel\, Dettenhaldenstraße 26\, 72336 Balingen\, Deutschland
CATEGORIES:Malkurs
ATTACH;FMTTYPE=image/jpeg:https://www.st-engel-atelier.de/wp-content/uploads/2022/05/Das-bin-ich-400x400-1.jpg
END:VEVENT
END:VCALENDAR