BEGIN:VCALENDAR
VERSION:2.0
PRODID:-//Simone Stengel - ECPv5.16.3.1//NONSGML v1.0//EN
CALSCALE:GREGORIAN
METHOD:PUBLISH
X-WR-CALNAME:Simone Stengel
X-ORIGINAL-URL:https://www.st-engel-atelier.de
X-WR-CALDESC:Veranstaltungen für Simone Stengel
BEGIN:VTIMEZONE
TZID:Europe/Berlin
BEGIN:DAYLIGHT
TZOFFSETFROM:+0100
TZOFFSETTO:+0200
TZNAME:CEST
DTSTART:20250330T010000
END:DAYLIGHT
BEGIN:STANDARD
TZOFFSETFROM:+0200
TZOFFSETTO:+0100
TZNAME:CET
DTSTART:20251026T010000
END:STANDARD
END:VTIMEZONE
BEGIN:VEVENT
DTSTART;TZID=Europe/Berlin:20251025T110000
DTEND;TZID=Europe/Berlin:20251025T140000
DTSTAMP:20260420T143910
CREATED:20250522T064330Z
LAST-MODIFIED:20260413T113343Z
UID:217118-1761390000-1761400800@www.st-engel-atelier.de
SUMMARY:intuitives Malen-Ausdruck deiner inneren Welt
DESCRIPTION:Intuitives Malen – Ausdruck deiner inneren Welt \nBeim intuitiven Malen geht es nicht um Technik\, Perfektion oder „schöne“ Ergebnisse. Es geht darum\, dich selbst wieder zu spüren. Du lässt deinen Verstand los und folgst stattdessen deiner Intuition – deinem inneren Impuls. Farben\, Formen und Bewegungen entstehen ganz frei\, ohne Bewertung. So wird Malen zu einer Reise nach innen. \nSeelenmalen – Deine Gefühle sichtbar machen \nSeelenmalen ist eine besonders achtsame Form des intuitiven Malens. Hier darf alles da sein: Freude\, Zweifel\, Sehnsucht oder auch Unsicherheit. Deine Seele spricht durch Farben und Linien – oft klarer\, als Worte es könnten. Du musst nichts erklären oder analysieren. Das Bild zeigt dir verborgene Talente und was noch alles von dir gelebt werden möchte. \nDieser kreative Prozess kann befreiend wirken\, Klarheit schaffen und dich wieder mit deinem inneren Gleichgewicht verbinden \nIntuitives Malen ist ein geschützter Raum\, in dem du einfach sein darfst. Ohne Druck\, ohne Erwartungen. Es geht nicht darum\, etwas „richtig“ zu machen – sondern darum\, dich selbst zu entdecken. Lass dich ein auf diesen kreativen Prozess und finde deinen ganz eigenen Ausdruck \n„Der Workshop Seelenmalen ist eine wundervolle Möglichkeit\, Körper und Seele in Einklang zu bringen. Er schafft einen geschützten Raum\, in dem innere Empfindungen auf kreative Weise sichtbar werden dürfen – ganz ohne Bewertung. Durch Farben\, Formen und intuitives Gestalten entsteht ein heilsamer Dialog mit dem eigenen Inneren. Dieser Prozess stärkt die Selbstwahrnehmung\, kann emotionale Blockaden lösen und tiefe Regenerationsprozesse anregen.“ \nFarbe ist Energie und sendet messbare Schwingung aus\, die positiv auf unseren Körper und Auraschichten wirken. Demnach kann Farbe als Informationsträger über unsere Augen Einfluss nehmen auf unser Wohlbefinden. \nMit einer geführten Farbmeditation\, welche kräftigend und zugleich ausgleichend auf unseren Körper wirkt\, stimmen wir uns auf das Malen ein. \nWir erschaffen unser persönliches Energiebild auf Leinwand und nutzen dieses als positiven Kraftspender für unser Zuhause. \nBei einer gemütlichen Tasse Tee/Kaffee schauen wir dann\, welche Impulse und Anregungen uns noch über das entstandene Bild vermittelt wird. \nDie Workshopgebühr ist inklusive Arbeitsmaterial/Getränke/Snacks. \n  \nDu hast eine längere Anfahrt? Es gibt schöne Übernachtungsmöglichkeiten bei Anke Krauser. \nEine Anmeldung gilt als verbindlich und ist somit kostenpflichtig\, bitte beachten sie die AGBs.
URL:https://www.st-engel-atelier.de/events/workshop-seelenmalen-die-heilende-kraft-der-farben/
LOCATION:St.engel Atelier\, Dettenhaldenstr. 26\, Balingen\, 72336
ATTACH;FMTTYPE=image/jpeg:https://www.st-engel-atelier.de/wp-content/uploads/2018/09/Seelenbaum.jpg
END:VEVENT
END:VCALENDAR