BEGIN:VCALENDAR
VERSION:2.0
PRODID:-//Simone Stengel - ECPv5.16.3.1//NONSGML v1.0//EN
CALSCALE:GREGORIAN
METHOD:PUBLISH
X-WR-CALNAME:Simone Stengel
X-ORIGINAL-URL:https://www.st-engel-atelier.de
X-WR-CALDESC:Veranstaltungen für Simone Stengel
BEGIN:VTIMEZONE
TZID:Europe/Berlin
BEGIN:DAYLIGHT
TZOFFSETFROM:+0100
TZOFFSETTO:+0200
TZNAME:CEST
DTSTART:20250330T010000
END:DAYLIGHT
BEGIN:STANDARD
TZOFFSETFROM:+0200
TZOFFSETTO:+0100
TZNAME:CET
DTSTART:20251026T010000
END:STANDARD
END:VTIMEZONE
BEGIN:VEVENT
DTSTART;TZID=Europe/Berlin:20250906T103000
DTEND;TZID=Europe/Berlin:20250906T140000
DTSTAMP:20260420T142606
CREATED:20250728T134855Z
LAST-MODIFIED:20250926T074536Z
UID:217156-1757154600-1757167200@www.st-engel-atelier.de
SUMMARY:Workshop: Verbinde dich mit deinem Schutzengel
DESCRIPTION:Von unsichtbarer Hand geführt\, so leicht wie ein Flügelschlag\, ein Flüstern im Wind ….. \nWie schaut er aus dein Engel? In welcher Farbe\, Form oder Erscheinung möchte er sich dir zeigen? Wie lautet seine Botschaft an dich? Was für Impulse möchte er dir für die nächste Zeit mitgeben? \nDurch die Botschaften und das liebevolle Gestallten der Bilder entsteht ein Feld der Heilung im Raum. Spühre und erlebe die besondere Atmosphäre\, welche dich in dieser Zeit  und auch danach begleitet. \nLasse die Energien und Informationen in dein persönliches Engelbild einfließen und erlebe wie diese segensvolle\, himmlische Energie dein Leben begleit und dein Zuhause mit neuer positiven Energie erfüllt. \nAn diesem Tag erhältst du eine liebevolle Engelbotschaft\, welche dich in deinem momentanen Prozess unterstützt und dich begleitet. \nMaterial\, sowie Getränke und Snacks sind im Preis enthalten. \nEine Anmeldung gilt als verbindlich und ist somit kostenpflichtig\, bitte beachten sie die AGBs. \nDie Kursgebühr von 70\,- Euro ist eine Woche vor Seminarbeginn auszugleichen. \nDie Anmeldung erfolgt per Whatsapp unter 0162 643 57 69 direkt bei Simone Stengel
URL:https://www.st-engel-atelier.de/events/workshop-verbinde-dich-mit-deinem-schutzengel/
LOCATION:Senn Hotel Garni\, Salzgasse 2\, Bad Hindelang\, Bayern\, 87541\, Deutschland
ATTACH;FMTTYPE=image/jpeg:https://www.st-engel-atelier.de/wp-content/uploads/2025/04/Sonnentau.jpg
END:VEVENT
END:VCALENDAR